BEGIN:VCALENDAR
VERSION:2.0
PRODID:-//Georgia Sheriffs&#039; Youth Homes - ECPv6.15.20//NONSGML v1.0//EN
CALSCALE:GREGORIAN
METHOD:PUBLISH
X-WR-CALNAME:Georgia Sheriffs&#039; Youth Homes
X-ORIGINAL-URL:https://georgiasheriffsyouth.org
X-WR-CALDESC:Events for Georgia Sheriffs&#039; Youth Homes
REFRESH-INTERVAL;VALUE=DURATION:PT1H
X-Robots-Tag:noindex
X-PUBLISHED-TTL:PT1H
BEGIN:VTIMEZONE
TZID:America/New_York
BEGIN:DAYLIGHT
TZOFFSETFROM:-0500
TZOFFSETTO:-0400
TZNAME:EDT
DTSTART:20240310T070000
END:DAYLIGHT
BEGIN:STANDARD
TZOFFSETFROM:-0400
TZOFFSETTO:-0500
TZNAME:EST
DTSTART:20241103T060000
END:STANDARD
BEGIN:DAYLIGHT
TZOFFSETFROM:-0500
TZOFFSETTO:-0400
TZNAME:EDT
DTSTART:20250309T070000
END:DAYLIGHT
BEGIN:STANDARD
TZOFFSETFROM:-0400
TZOFFSETTO:-0500
TZNAME:EST
DTSTART:20251102T060000
END:STANDARD
BEGIN:DAYLIGHT
TZOFFSETFROM:-0500
TZOFFSETTO:-0400
TZNAME:EDT
DTSTART:20260308T070000
END:DAYLIGHT
BEGIN:STANDARD
TZOFFSETFROM:-0400
TZOFFSETTO:-0500
TZNAME:EST
DTSTART:20261101T060000
END:STANDARD
END:VTIMEZONE
BEGIN:VEVENT
DTSTART;TZID=America/New_York:20251213T120000
DTEND;TZID=America/New_York:20251213T120000
DTSTAMP:20260420T074445
CREATED:20250320T161228Z
LAST-MODIFIED:20251117T124614Z
UID:5836-1765627200-1765627200@georgiasheriffsyouth.org
SUMMARY:2025 Toys for Boys and Girls HH Bike Ride
DESCRIPTION:ARE YOU READY TO RIDE?? \n\n\n\nSanta needs a little help this year.  So\, let’s show the kids some support this holiday season and Ride For A Cause!
URL:https://georgiasheriffsyouth.org/event/2025-toys-for-boys-and-girls-hh-bike-ride/
LOCATION:Georgia
ATTACH;FMTTYPE=image/png:https://georgiasheriffsyouth.org/wp-content/uploads/2025/03/TOYSFORTHEBOYSANDGIRLS.png
END:VEVENT
BEGIN:VEVENT
DTSTART;TZID=America/New_York:20251213T170000
DTEND;TZID=America/New_York:20251213T170000
DTSTAMP:20260420T074445
CREATED:20251117T132614Z
LAST-MODIFIED:20251201T185534Z
UID:6203-1765645200-1765645200@georgiasheriffsyouth.org
SUMMARY:Holiday Boat Light Parade at Lake Lanier
DESCRIPTION:Come out for the boats\, lights and fun fellowship and make a difference in a child’s life.
URL:https://georgiasheriffsyouth.org/event/holiday-boat-light-parade-at-lake-lanier-public-cruise/
LOCATION:Lake Lanier\, Port Royale Drive\, Gainesville\, GA\, 30506\, United States
ATTACH;FMTTYPE=image/jpeg:https://georgiasheriffsyouth.org/wp-content/uploads/2025/11/boat.jpg
END:VEVENT
END:VCALENDAR